BEGIN:VCALENDAR
VERSION:2.0
PRODID:-//Elleebana USA OFFICIAL® - ECPv6.15.20//NONSGML v1.0//EN
CALSCALE:GREGORIAN
METHOD:PUBLISH
X-ORIGINAL-URL:https://elleebana-usa.com
X-WR-CALDESC:Events for Elleebana USA OFFICIAL®
REFRESH-INTERVAL;VALUE=DURATION:PT1H
X-Robots-Tag:noindex
X-PUBLISHED-TTL:PT1H
BEGIN:VTIMEZONE
TZID:UTC
BEGIN:STANDARD
TZOFFSETFROM:+0000
TZOFFSETTO:+0000
TZNAME:UTC
DTSTART:20200101T000000
END:STANDARD
END:VTIMEZONE
BEGIN:VEVENT
DTSTART;VALUE=DATE:20210919
DTEND;VALUE=DATE:20210921
DTSTAMP:20260423T105640
CREATED:20210809T112351Z
LAST-MODIFIED:20210809T112351Z
UID:10854-1632009600-1632182399@elleebana-usa.com
SUMMARY:ELLEEPLEX BROW + LASH LAMINATION COURSE
DESCRIPTION:Elleeplex Profusion Lash and Brow Lamination treatment by Elleebana is the complete package\, its popularity is vastly dominating the lash and brow world. With one system you can both laminate the brows and lashes! \nThis Thioglycolic Acid Free\, Sodium Bromate Free\, Vegan\, Cruelty Free system is gentle while remaining incredibly effective.  The incorporation of the ReGEN Next Gen Product line into the processing steps in the service has been a revolutionary phase created by Cosmetic Chemist and Director of Elleebana Global\, Otto Mitter. \nThe brow lamination service gives the appearance of fuller eyebrows that are manipulated into a flattering and/or corrective shape that clients will LOVE. The lash lamination service will lift the lashes to create the appearance of longer lashes and eye-opening look. \nYou are taught both of these highly demanding services over two separate days by a Certified Elleebana Trainer. During each course\, our hand selected Trainer will demonstrate the service and also guide you step-by-step through hands-on practice with two live models. Learn how to not only provide the service but how to also set yourself aside from other artists in this industry.
URL:https://elleebana-usa.com/training-calendar/elleeplex-brow-lash-lamination-course/
LOCATION:California – Pop Society Pro\, 2488 Newport Blvd. Unit B-4\, Costa Mesa\, CA\, 92627\, United States
CATEGORIES:Brow and Lash Lamination
ATTACH;FMTTYPE=image/jpeg:https://elleebana-usa.com/wp-content/uploads/2021/02/Elleebana-USA-Training-Event-Elleeplex-Enroll-Now.jpg
ORGANIZER;CN="Yvette Mendoza":MAILTO:elleebanaoc@gmail.com
END:VEVENT
BEGIN:VEVENT
DTSTART;TZID=UTC:20210913T093000
DTEND;TZID=UTC:20210914T170000
DTSTAMP:20260423T105640
CREATED:20210811T073917Z
LAST-MODIFIED:20210811T073917Z
UID:11019-1631525400-1631638800@elleebana-usa.com
SUMMARY:ELLEEPLEX BROW + LASH LAMINATION COURSE
DESCRIPTION:Elleeplex Profusion Lash and Brow Lamination treatment by Elleebana is the complete package\, its popularity is vastly dominating the lash and brow world. With one system you can both laminate the brows and lashes! \nThis Thioglycolic Acid Free\, Sodium Bromate Free\, Vegan\, Cruelty Free system is gentle while remaining incredibly effective.  The incorporation of the ReGEN Next Gen Product line into the processing steps in the service has been a revolutionary phase created by Cosmetic Chemist and Director of Elleebana Global\, Otto Mitter. \nThe brow lamination service gives the appearance of fuller eyebrows that are manipulated into a flattering and/or corrective shape that clients will LOVE. The lash lamination service will lift the lashes to create the appearance of longer lashes and eye-opening look. \nYou are taught both of these highly demanding services over two separate days by a Certified Elleebana Trainer. During each course\, our hand selected Trainer will demonstrate the service and also guide you step-by-step through hands-on practice with two live models. Learn how to not only provide the service but how to also set yourself aside from other artists in this industry.
URL:https://elleebana-usa.com/training-calendar/elleeplex-brow-lash-lamination-course-6/
LOCATION:Washington – BoLavish Lash & Skincare Spa\, 3703 California Ave. SW. Suite\, Seattle\, WA\, 98116\, United States
CATEGORIES:Brow and Lash Lamination
ATTACH;FMTTYPE=image/jpeg:https://elleebana-usa.com/wp-content/uploads/2021/02/Elleebana-USA-Training-Event-Elleeplex-Enroll-Now.jpg
ORGANIZER;CN="Chanbo Plenkovich":MAILTO:bolavishspa@gmail.com
END:VEVENT
BEGIN:VEVENT
DTSTART;TZID=UTC:20210913T080000
DTEND;TZID=UTC:20210914T170000
DTSTAMP:20260423T105640
CREATED:20210802T072924Z
LAST-MODIFIED:20210802T072924Z
UID:10251-1631520000-1631638800@elleebana-usa.com
SUMMARY:ELLEEPLEX BROW AND LASH LAMINATION COURSE
DESCRIPTION:Elleeplex Profusion Lash and Brow Lamination treatment by Elleebana is the complete package\, its popularity is vastly dominating the lash and brow world. With one system you can both laminate the brows and lashes! \nThis Thioglycolic Acid Free\, Sodium Bromate Free\, Vegan\, Cruelty Free system is gentle while remaining incredibly effective.  The incorporation of the ReGEN Next Gen Product line into the processing steps in the service has been a revolutionary phase created by Cosmetic Chemist and Director of Elleebana Global\, Otto Mitter. \nThe brow lamination service gives the appearance of fuller eyebrows that are manipulated into a flattering and/or corrective shape that clients will LOVE. The lash lamination service will lift the lashes to create the appearance of longer lashes and eye-opening look. \nYou are taught both of these highly demanding services over two separate days by a Certified Elleebana Trainer. During each course\, our hand selected Trainer will demonstrate the service and also guide you step-by-step through hands-on practice with two live models. Learn how to not only provide the service but how to also set yourself aside from other artists in this industry.
URL:https://elleebana-usa.com/training-calendar/elleeplex-brow-and-lash-lamination-course-2/
LOCATION:CA
CATEGORIES:Brow and Lash Lamination
ATTACH;FMTTYPE=image/jpeg:https://elleebana-usa.com/wp-content/uploads/2021/02/Elleebana-USA-Training-Event-Elleeplex-Enroll-Now.jpg
END:VEVENT
BEGIN:VEVENT
DTSTART;TZID=UTC:20210815T093000
DTEND;TZID=UTC:20210816T170000
DTSTAMP:20260423T105640
CREATED:20210811T073752Z
LAST-MODIFIED:20210811T073752Z
UID:11017-1629019800-1629133200@elleebana-usa.com
SUMMARY:ELLEEPLEX BROW + LASH LAMINATION COURSE
DESCRIPTION:Elleeplex Profusion Lash and Brow Lamination treatment by Elleebana is the complete package\, its popularity is vastly dominating the lash and brow world. With one system you can both laminate the brows and lashes! \nThis Thioglycolic Acid Free\, Sodium Bromate Free\, Vegan\, Cruelty Free system is gentle while remaining incredibly effective.  The incorporation of the ReGEN Next Gen Product line into the processing steps in the service has been a revolutionary phase created by Cosmetic Chemist and Director of Elleebana Global\, Otto Mitter. \nThe brow lamination service gives the appearance of fuller eyebrows that are manipulated into a flattering and/or corrective shape that clients will LOVE. The lash lamination service will lift the lashes to create the appearance of longer lashes and eye-opening look. \nYou are taught both of these highly demanding services over two separate days by a Certified Elleebana Trainer. During each course\, our hand selected Trainer will demonstrate the service and also guide you step-by-step through hands-on practice with two live models. Learn how to not only provide the service but how to also set yourself aside from other artists in this industry.
URL:https://elleebana-usa.com/training-calendar/elleeplex-brow-lash-lamination-course-5/
LOCATION:Washington – BoLavish Lash & Skincare Spa\, 3703 California Ave. SW. Suite\, Seattle\, WA\, 98116\, United States
CATEGORIES:Brow and Lash Lamination
ATTACH;FMTTYPE=image/jpeg:https://elleebana-usa.com/wp-content/uploads/2021/02/Elleebana-USA-Training-Event-Elleeplex-Enroll-Now.jpg
ORGANIZER;CN="Chanbo Plenkovich":MAILTO:bolavishspa@gmail.com
END:VEVENT
BEGIN:VEVENT
DTSTART;TZID=UTC:20210810T080000
DTEND;TZID=UTC:20210811T170000
DTSTAMP:20260423T105640
CREATED:20210802T072820Z
LAST-MODIFIED:20210802T072820Z
UID:10249-1628582400-1628701200@elleebana-usa.com
SUMMARY:ELLEEPLEX BROW AND LASH LAMINATION COURSE
DESCRIPTION:Elleeplex Profusion Lash and Brow Lamination treatment by Elleebana is the complete package\, its popularity is vastly dominating the lash and brow world. With one system you can both laminate the brows and lashes! \nThis Thioglycolic Acid Free\, Sodium Bromate Free\, Vegan\, Cruelty Free system is gentle while remaining incredibly effective.  The incorporation of the ReGEN Next Gen Product line into the processing steps in the service has been a revolutionary phase created by Cosmetic Chemist and Director of Elleebana Global\, Otto Mitter. \nThe brow lamination service gives the appearance of fuller eyebrows that are manipulated into a flattering and/or corrective shape that clients will LOVE. The lash lamination service will lift the lashes to create the appearance of longer lashes and eye-opening look. \nYou are taught both of these highly demanding services over two separate days by a Certified Elleebana Trainer. During each course\, our hand selected Trainer will demonstrate the service and also guide you step-by-step through hands-on practice with two live models. Learn how to not only provide the service but how to also set yourself aside from other artists in this industry.
URL:https://elleebana-usa.com/training-calendar/elleeplex-brow-and-lash-lamination-course/
LOCATION:CA
CATEGORIES:Brow and Lash Lamination
ATTACH;FMTTYPE=image/jpeg:https://elleebana-usa.com/wp-content/uploads/2021/02/Elleebana-USA-Training-Event-Elleeplex-Enroll-Now.jpg
END:VEVENT
END:VCALENDAR